BEGIN:VCALENDAR
VERSION:2.0
METHOD:PUBLISH
CALSCALE:GREGORIAN
PRODID:-//Helios Calendar//EN
X-FROM-URL:https://www.sdmesa.edu/calendar/index.php?eID=675
X-WR-RELCALID:San Diego Mesa College Calendar Blood Drive 20151029T080000
X-WR-TIMEZONE:America/Los_Angeles
X-WR-CALNAME:San Diego Mesa College Calendar
BEGIN:VEVENT
URL;VALUE=URI:https://www.sdmesa.edu/calendar/index.php?eID=675
DTSTART:20151029T080000
DTEND:20151029T180000
SUMMARY:Blood Drive
DESCRIPTION:The San Diego Blood Bank will be at Mesa College Thursday\, October 29 by the Learning Resource Center. Donate blood and help save lives!To schedule an appointment\, visit www.sandiegobloodbank.org\, click on "Donate Blood\," select "Appointments\,"... For complete event details please visit:  https://www.sdmesa.edu/calendar/?eID=675\n______________________________\nEvent Downloaded Powered by OU Calendar
LOCATION:Mesa Campus - 7250 Mesa College Drive \, San Diego\, CA USA 92111
CATEGORIES:San Diego Mesa College Calendar Events
PRIORITY:0
TRANSP:TRANSPARENT
END:VEVENT
END:VCALENDAR