BEGIN:VCALENDAR
VERSION:2.0
METHOD:PUBLISH
CALSCALE:GREGORIAN
PRODID:-//Helios Calendar//EN
X-FROM-URL:https://www.sdmesa.edu/calendar/index.php?eID=673
X-WR-RELCALID:San Diego Mesa College Calendar 2015 Distance Learning Summit: Going the Distance -- New Directions in Online Learning 20151009T083000
X-WR-TIMEZONE:America/Los_Angeles
X-WR-CALNAME:San Diego Mesa College Calendar
BEGIN:VEVENT
URL;VALUE=URI:https://www.sdmesa.edu/calendar/index.php?eID=673
DTSTART:20151009T083000
DTEND:20151009T153000
SUMMARY:2015 Distance Learning Summit: Going the Distance -- New Directions in Online Learning
DESCRIPTION:Join San Diego Community College District faculty and staff to learn more about new directions in online learning.This is a wonderful time to get together\, have fun and learn more about distance education. The event includes three breakout sessions... For complete event details please visit:  https://www.sdmesa.edu/calendar/?eID=673\n______________________________\nEvent Downloaded Powered by OU Calendar
LOCATION:Continuing Education North City Center  - 8355 Aero Drive \, San Diego\, CA USA 92123
CATEGORIES:San Diego Mesa College Calendar Events
PRIORITY:0
TRANSP:TRANSPARENT
END:VEVENT
END:VCALENDAR