BEGIN:VCALENDAR
VERSION:2.0
METHOD:PUBLISH
CALSCALE:GREGORIAN
PRODID:-//Helios Calendar//EN
X-FROM-URL:https://www.sdmesa.edu/calendar/index.php?eID=672
X-WR-RELCALID:San Diego Mesa College Calendar VOICES: Hispanic and Latino/a Student Experiences 20151013T130000
X-WR-TIMEZONE:America/Los_Angeles
X-WR-CALNAME:San Diego Mesa College Calendar
BEGIN:VEVENT
URL;VALUE=URI:https://www.sdmesa.edu/calendar/index.php?eID=672
DTSTART:20151013T130000
DTEND:20151013T140000
SUMMARY:VOICES: Hispanic and Latino/a Student Experiences
DESCRIPTION:Join us for our Hispanic Heritage Month event -- “Voices: Hispanic and Latino/a Students Share their Experiences as Students at Mesa College” Hispanic and Latino/a students will share their experiences at Mesa College\, reflect on their time... For complete event details please visit:  https://www.sdmesa.edu/calendar/?eID=672\n______________________________\nEvent Downloaded Powered by OU Calendar
LOCATION:Mesa Campus - 7250 Mesa College Drive \, San Diego\, CA USA 92111
CATEGORIES:San Diego Mesa College Calendar Events
PRIORITY:0
TRANSP:TRANSPARENT
END:VEVENT
END:VCALENDAR