BEGIN:VCALENDAR
VERSION:2.0
METHOD:PUBLISH
CALSCALE:GREGORIAN
PRODID:-//Helios Calendar//EN
X-FROM-URL:https://www.sdmesa.edu/calendar/index.php?eID=661
X-WR-RELCALID:San Diego Mesa College Calendar Social Sciences Occasional Lectures: Los Angeles Plaza History 20151009T000000
X-WR-TIMEZONE:America/Los_Angeles
X-WR-CALNAME:San Diego Mesa College Calendar
BEGIN:VEVENT
URL;VALUE=URI:https://www.sdmesa.edu/calendar/index.php?eID=661
DTSTART:20151009T000000
DTEND:20151009T140000
SUMMARY:Social Sciences Occasional Lectures: Los Angeles Plaza History
DESCRIPTION:Faculty\, students\, and the public are cordially invited to join Mesa College's Social Sciences department in these engaging and informative lectures on a variety of topics. This week's lecture is:“Los Angeles Plaza History: Mexican and Chinese... For complete event details please visit:  https://www.sdmesa.edu/calendar/?eID=661\n______________________________\nEvent Downloaded Powered by OU Calendar
LOCATION:Mesa Campus - 7250 Mesa College Drive \, San Diego\, CA USA 92111
CATEGORIES:San Diego Mesa College Calendar Events
PRIORITY:0
TRANSP:TRANSPARENT
END:VEVENT
END:VCALENDAR