BEGIN:VCALENDAR
VERSION:2.0
METHOD:PUBLISH
CALSCALE:GREGORIAN
PRODID:-//Helios Calendar//EN
X-FROM-URL:https://www.sdmesa.edu/calendar/index.php?eID=660
X-WR-RELCALID:San Diego Mesa College Calendar Mesa College Theatre Performance: The Elephant Man 20151002T200000
X-WR-TIMEZONE:America/Los_Angeles
X-WR-CALNAME:San Diego Mesa College Calendar
BEGIN:VEVENT
URL;VALUE=URI:https://www.sdmesa.edu/calendar/index.php?eID=660
DTSTART:20151002T200000
DTEND:20151002T200000
SUMMARY:Mesa College Theatre Performance: The Elephant Man
DESCRIPTION:The Mesa College Theatre Company is proud to present the Tony Award winning play “The Elephant Man” based on the life of John Merrick. Merrick\, born in Leicester\, England in 1862 with a rare debilitating disorder was found in a freak show by... For complete event details please visit:  https://www.sdmesa.edu/calendar/?eID=660\n______________________________\nEvent Downloaded Powered by OU Calendar
LOCATION:Mesa Campus - 7250 Mesa College Drive \, San Diego\, CA USA 92111
CATEGORIES:San Diego Mesa College Calendar Events
PRIORITY:0
TRANSP:TRANSPARENT
END:VEVENT
END:VCALENDAR