BEGIN:VCALENDAR
VERSION:2.0
METHOD:PUBLISH
CALSCALE:GREGORIAN
PRODID:-//Helios Calendar//EN
X-FROM-URL:https://www.sdmesa.edu/calendar/index.php?eID=659
X-WR-RELCALID:San Diego Mesa College Calendar Archtoberfest: Mesa College Design Center Open House and Tour 20151007T173000
X-WR-TIMEZONE:America/Los_Angeles
X-WR-CALNAME:San Diego Mesa College Calendar
BEGIN:VEVENT
URL;VALUE=URI:https://www.sdmesa.edu/calendar/index.php?eID=659
DTSTART:20151007T173000
DTEND:20151007T200000
SUMMARY:Archtoberfest: Mesa College Design Center Open House and Tour
DESCRIPTION:A presentation of the degree and certificate programs offered at San Diego Mesa College such as: ArchitectureBuilding & Construction TechnologyInterior DesignLandscape ArchitectureThe presentation will be held in Room Z-102 of the Mesa College... For complete event details please visit:  https://www.sdmesa.edu/calendar/?eID=659\n______________________________\nEvent Downloaded Powered by OU Calendar
LOCATION:Design Center Courtyard - 7250 Mesa College Drive\, Z Bldg Design Center \, San Diego\, CA USA 92111
CATEGORIES:San Diego Mesa College Calendar Events
PRIORITY:0
TRANSP:TRANSPARENT
END:VEVENT
END:VCALENDAR