BEGIN:VCALENDAR
VERSION:2.0
METHOD:PUBLISH
CALSCALE:GREGORIAN
PRODID:-//Helios Calendar//EN
X-FROM-URL:https://www.sdmesa.edu/calendar/index.php?eID=656
X-WR-RELCALID:San Diego Mesa College Calendar Art Gallery Reception: Transpoiesis  20151015T163000
X-WR-TIMEZONE:America/Los_Angeles
X-WR-CALNAME:San Diego Mesa College Calendar
BEGIN:VEVENT
URL;VALUE=URI:https://www.sdmesa.edu/calendar/index.php?eID=656
DTSTART:20151015T163000
DTEND:20151015T183000
SUMMARY:Art Gallery Reception: Transpoiesis 
DESCRIPTION:In this multi-media exhibition artist Jose Hugo Sanchez explores relationships between Mexico and the United States utilizing iconography derived from both cultures. He reaches back in history\, resurrecting Indigenous characters and brandishing them... For complete event details please visit:  https://www.sdmesa.edu/calendar/?eID=656\n______________________________\nEvent Downloaded Powered by OU Calendar
LOCATION:Art Gallery - 7250 Mesa College Drive\, Art Gallery Patio \, San Diego\, CA USA 92111
CATEGORIES:San Diego Mesa College Calendar Events
PRIORITY:0
TRANSP:TRANSPARENT
END:VEVENT
END:VCALENDAR