BEGIN:VCALENDAR
VERSION:2.0
METHOD:PUBLISH
CALSCALE:GREGORIAN
PRODID:-//Helios Calendar//EN
X-FROM-URL:https://www.sdmesa.edu/calendar/index.php?eID=654
X-WR-RELCALID:San Diego Mesa College Calendar Mesa College FALL FEST 5K 20151024T070000
X-WR-TIMEZONE:America/Los_Angeles
X-WR-CALNAME:San Diego Mesa College Calendar
BEGIN:VEVENT
URL;VALUE=URI:https://www.sdmesa.edu/calendar/index.php?eID=654
DTSTART:20151024T070000
DTEND:20151024T070000
SUMMARY:Mesa College FALL FEST 5K
DESCRIPTION:The second annual 5K and 1Mile race is being held on Saturday\, October 24 (Homecoming!). Registration begins at 7:00 AM.  The 5K begins at 8AMMesa Culinary students will be there\, serving breakfast and lunch!Statyfor the Homecoming game! Registration... For complete event details please visit:  https://www.sdmesa.edu/calendar/?eID=654\n______________________________\nEvent Downloaded Powered by OU Calendar
LOCATION:San Diego Mesa College Merrill Douglas Stadium - 7250 Mesa College Drive \, San Diego\, CA USA 92111
CATEGORIES:San Diego Mesa College Calendar Events
PRIORITY:0
TRANSP:TRANSPARENT
END:VEVENT
END:VCALENDAR