BEGIN:VCALENDAR
VERSION:2.0
METHOD:PUBLISH
CALSCALE:GREGORIAN
PRODID:-//Helios Calendar//EN
X-FROM-URL:https://www.sdmesa.edu/calendar/index.php?eID=650
X-WR-RELCALID:San Diego Mesa College Calendar Mesa Annual Fall Festival 20151024
X-WR-TIMEZONE:America/Los_Angeles
X-WR-CALNAME:San Diego Mesa College Calendar
BEGIN:VEVENT
URL;VALUE=URI:https://www.sdmesa.edu/calendar/index.php?eID=650
DTSTART;VALUE=DATE:20151024
DTEND;VALUE=DATE:20151025
SUMMARY:Mesa Annual Fall Festival
DESCRIPTION:Mesa's annual Fall Festival\, hosted by the Mesa Foundation\, this event showcases an open house in the Math and Science building\, a fun run to support our student veterans\, and Homecoming. Event Number 1510009 and 1510011 For complete event details please visit:  https://www.sdmesa.edu/calendar/?eID=650\n______________________________\nEvent Downloaded Powered by OU Calendar
LOCATION:Mesa Campus - 7250 Mesa College Drive \, San Diego\, CA USA 92111
CATEGORIES:San Diego Mesa College Calendar Events
PRIORITY:0
TRANSP:TRANSPARENT
END:VEVENT
END:VCALENDAR