BEGIN:VCALENDAR
VERSION:2.0
METHOD:PUBLISH
CALSCALE:GREGORIAN
PRODID:-//Helios Calendar//EN
X-FROM-URL:https://www.sdmesa.edu/calendar/index.php?eID=644
X-WR-RELCALID:San Diego Mesa College Calendar Job Fair 20151015T093000
X-WR-TIMEZONE:America/Los_Angeles
X-WR-CALNAME:San Diego Mesa College Calendar
BEGIN:VEVENT
URL;VALUE=URI:https://www.sdmesa.edu/calendar/index.php?eID=644
DTSTART:20151015T093000
DTEND:20151015T130000
SUMMARY:Job Fair
DESCRIPTION:Over 40 employers and organizations offering jobs\, internships and volunteer opportunities.Thursday\, October 15th from 9:30 am - 1:00 pmCall or stop by the Career Center  for more information.www.sdmesa.edu/career-center/events For complete event details please visit:  https://www.sdmesa.edu/calendar/?eID=644\n______________________________\nEvent Downloaded Powered by OU Calendar
LOCATION:Mesa Promenade - 7250 Mesa College Drive\, Promenade \, San Diego\, CA USA 92111
CATEGORIES:San Diego Mesa College Calendar Events
PRIORITY:0
TRANSP:TRANSPARENT
END:VEVENT
END:VCALENDAR