BEGIN:VCALENDAR
VERSION:2.0
METHOD:PUBLISH
CALSCALE:GREGORIAN
PRODID:-//Helios Calendar//EN
X-FROM-URL:https://www.sdmesa.edu/calendar/index.php?eID=642
X-WR-RELCALID:San Diego Mesa College Calendar Educational Goal Workshop 20151105T100000
X-WR-TIMEZONE:America/Los_Angeles
X-WR-CALNAME:San Diego Mesa College Calendar
BEGIN:VEVENT
URL;VALUE=URI:https://www.sdmesa.edu/calendar/index.php?eID=642
DTSTART:20151105T100000
DTEND:20151105T120000
SUMMARY:Educational Goal Workshop
DESCRIPTION:Identify your educational goals. Explore Major and Career options.Thursday\, November 5th from 10:00 am - 12:00 pmSpace is limited. Call or stop by the Career Center to reserve your spot.Phone (619) 388-2777www.sdmesa.edu/career-center/events For complete event details please visit:  https://www.sdmesa.edu/calendar/?eID=642\n______________________________\nEvent Downloaded Powered by OU Calendar
LOCATION:Mesa Campus - 7250 Mesa College Drive \, San Diego\, CA USA 92111
CATEGORIES:San Diego Mesa College Calendar Events
PRIORITY:0
TRANSP:TRANSPARENT
END:VEVENT
END:VCALENDAR