BEGIN:VCALENDAR
VERSION:2.0
METHOD:PUBLISH
CALSCALE:GREGORIAN
PRODID:-//Helios Calendar//EN
X-FROM-URL:https://www.sdmesa.edu/calendar/index.php?eID=639
X-WR-RELCALID:San Diego Mesa College Calendar Sustainability Week 20151022
X-WR-TIMEZONE:America/Los_Angeles
X-WR-CALNAME:San Diego Mesa College Calendar
BEGIN:VEVENT
URL;VALUE=URI:https://www.sdmesa.edu/calendar/index.php?eID=639
DTSTART;VALUE=DATE:20151022
DTEND;VALUE=DATE:20151023
SUMMARY:Sustainability Week
DESCRIPTION:Sustainability Week provides students with opportunities for in-depth discussions and hands-on activities that highlight the contributions the arts\, sciences\, and humanities have made in understanding our planet. Please click here for a complete... For complete event details please visit:  https://www.sdmesa.edu/calendar/?eID=639\n______________________________\nEvent Downloaded Powered by OU Calendar
LOCATION:Mesa Campus - 7250 Mesa College Drive \, San Diego\, CA USA 92111
CATEGORIES:San Diego Mesa College Calendar Events
PRIORITY:0
TRANSP:TRANSPARENT
END:VEVENT
END:VCALENDAR