BEGIN:VCALENDAR
VERSION:2.0
METHOD:PUBLISH
CALSCALE:GREGORIAN
PRODID:-//Helios Calendar//EN
X-FROM-URL:https://www.sdmesa.edu/calendar/index.php?eID=632
X-WR-RELCALID:San Diego Mesa College Calendar Mesa Football Home Opener 20150912T180000
X-WR-TIMEZONE:America/Los_Angeles
X-WR-CALNAME:San Diego Mesa College Calendar
BEGIN:VEVENT
URL;VALUE=URI:https://www.sdmesa.edu/calendar/index.php?eID=632
DTSTART:20150912T180000
DTEND:20150912T180000
SUMMARY:Mesa Football Home Opener
DESCRIPTION:Mesa Football Home Opener GameCheer on our Olympian football team this Saturday\, September 12\, for the home opener against LA Southwest College.For more Mesa football info\, including the complete season schedule\, visit: http://bit.ly/mesaftblFor... For complete event details please visit:  https://www.sdmesa.edu/calendar/?eID=632\n______________________________\nEvent Downloaded Powered by OU Calendar
LOCATION:East Athletics Plaza - 7250 Mesa College Drive\, Athletics Plaza \, San Diego\, CA USA 92111
CATEGORIES:San Diego Mesa College Calendar Events
PRIORITY:0
TRANSP:TRANSPARENT
END:VEVENT
END:VCALENDAR