BEGIN:VCALENDAR
VERSION:2.0
METHOD:PUBLISH
CALSCALE:GREGORIAN
PRODID:-//Helios Calendar//EN
X-FROM-URL:https://www.sdmesa.edu/calendar/index.php?eID=631
X-WR-RELCALID:San Diego Mesa College Calendar Annual Transfer Day 20151006T100000
X-WR-TIMEZONE:America/Los_Angeles
X-WR-CALNAME:San Diego Mesa College Calendar
BEGIN:VEVENT
URL;VALUE=URI:https://www.sdmesa.edu/calendar/index.php?eID=631
DTSTART:20151006T100000
DTEND:20151006T130000
SUMMARY:Annual Transfer Day
DESCRIPTION:Each year San Diego Mesa College Transfer Center hosts a Transfer Fair where representatives from California State University\, University of California\, Private\, Out-of-State colleges and universities attend to provide information about their respective... For complete event details please visit:  https://www.sdmesa.edu/calendar/?eID=631\n______________________________\nEvent Downloaded Powered by OU Calendar
LOCATION:Mesa Promenade - 7250 Mesa College Drive\, Promenade \, San Diego\, CA USA 92111
CATEGORIES:San Diego Mesa College Calendar Events
PRIORITY:0
TRANSP:TRANSPARENT
END:VEVENT
END:VCALENDAR