BEGIN:VCALENDAR
VERSION:2.0
METHOD:PUBLISH
CALSCALE:GREGORIAN
PRODID:-//Helios Calendar//EN
X-FROM-URL:https://www.sdmesa.edu/calendar/index.php?eID=6296
X-WR-RELCALID:San Diego Mesa College Calendar CSU/UC Application Updates and Supplemental App Open Lab 20230117T110000
X-WR-TIMEZONE:America/Los_Angeles
X-WR-CALNAME:San Diego Mesa College Calendar
BEGIN:VEVENT
URL;VALUE=URI:https://www.sdmesa.edu/calendar/index.php?eID=6296
DTSTART:20230117T110000
DTEND:20230117T130000
SUMMARY:CSU/UC Application Updates and Supplemental App Open Lab
DESCRIPTION:Have a question for the CSU or UC application updates or supplemental applications? Please consider attending an application open labs between January 3rd through January 31st. Register Here!https://bit.ly/TransferTalks2023 Mondays\, 3:00 - 5:00... For complete event details please visit:  https://www.sdmesa.edu/calendar/?eID=6296\n______________________________\nEvent Downloaded Powered by OU Calendar
LOCATION:Mesa Campus - 7250 Mesa College Drive \, San Diego\, CA USA 92111
CATEGORIES:San Diego Mesa College Calendar Events
PRIORITY:0
TRANSP:TRANSPARENT
END:VEVENT
END:VCALENDAR