BEGIN:VCALENDAR
VERSION:2.0
METHOD:PUBLISH
CALSCALE:GREGORIAN
PRODID:-//Helios Calendar//EN
X-FROM-URL:https://www.sdmesa.edu/calendar/index.php?eID=628
X-WR-RELCALID:San Diego Mesa College Calendar Student Poster Session: Hispanic Leaders Today 20150915T100000
X-WR-TIMEZONE:America/Los_Angeles
X-WR-CALNAME:San Diego Mesa College Calendar
BEGIN:VEVENT
URL;VALUE=URI:https://www.sdmesa.edu/calendar/index.php?eID=628
DTSTART:20150915T100000
DTEND:20150915T120000
SUMMARY:Student Poster Session: Hispanic Leaders Today
DESCRIPTION:All students are invited to participate! Create a poster that highlights a Hispanic leader in your field of study.$50 Mesa Café gift card will be awarded to the student with the most inspirational poster.Posters boards are free!  Contact mesaproyectoexito@sdccd.edu for... For complete event details please visit:  https://www.sdmesa.edu/calendar/?eID=628\n______________________________\nEvent Downloaded Powered by OU Calendar
LOCATION:LRC Atrium (1st floor LRC) - 7250 Mesa College Drive\, LRC \, San Diego\, CA USA 92111
CATEGORIES:San Diego Mesa College Calendar Events
PRIORITY:0
TRANSP:TRANSPARENT
END:VEVENT
END:VCALENDAR