BEGIN:VCALENDAR
VERSION:2.0
METHOD:PUBLISH
CALSCALE:GREGORIAN
PRODID:-//Helios Calendar//EN
X-FROM-URL:https://www.sdmesa.edu/calendar/index.php?eID=626
X-WR-RELCALID:San Diego Mesa College Calendar Uncovering Pluto's Secrets 20150915T190000
X-WR-TIMEZONE:America/Los_Angeles
X-WR-CALNAME:San Diego Mesa College Calendar
BEGIN:VEVENT
URL;VALUE=URI:https://www.sdmesa.edu/calendar/index.php?eID=626
DTSTART:20150915T190000
DTEND:20150915T210000
SUMMARY:Uncovering Pluto's Secrets
DESCRIPTION:Uncovering Pluto's Secrets: A Panel PresentationG-101 Auditorium\, Mesa College Campus As part of the Physical Sciences Lecture Series\, professors Irena Stojimirovic\, Dave Coleman\, and Don Barrie will be discussing the "dimunitive" planet. Everyone... For complete event details please visit:  https://www.sdmesa.edu/calendar/?eID=626\n______________________________\nEvent Downloaded Powered by OU Calendar
LOCATION:Mesa Campus - 7250 Mesa College Drive \, San Diego\, CA USA 92111
CATEGORIES:San Diego Mesa College Calendar Events
PRIORITY:0
TRANSP:TRANSPARENT
END:VEVENT
END:VCALENDAR