BEGIN:VCALENDAR
VERSION:2.0
METHOD:PUBLISH
CALSCALE:GREGORIAN
PRODID:-//Helios Calendar//EN
X-FROM-URL:https://www.sdmesa.edu/calendar/index.php?eID=623
X-WR-RELCALID:San Diego Mesa College Calendar Recital Hour 20151202T130000
X-WR-TIMEZONE:America/Los_Angeles
X-WR-CALNAME:San Diego Mesa College Calendar
BEGIN:VEVENT
URL;VALUE=URI:https://www.sdmesa.edu/calendar/index.php?eID=623
DTSTART:20151202T130000
DTEND:20151202T140000
SUMMARY:Recital Hour
DESCRIPTION:Join Mesa’s Music Department for Recital Hour\, an hour-long music performance featured every Wednesday from 1-2 PM in Room 119 of the C-100 building.This event will feature San Diego Mesa College student musicians in the Applied Music program. Where:... For complete event details please visit:  https://www.sdmesa.edu/calendar/?eID=623\n______________________________\nEvent Downloaded Powered by OU Calendar
LOCATION:Mesa Campus - 7250 Mesa College Drive \, San Diego\, CA USA 92111
CATEGORIES:San Diego Mesa College Calendar Events
PRIORITY:0
TRANSP:TRANSPARENT
END:VEVENT
END:VCALENDAR