BEGIN:VCALENDAR
VERSION:2.0
METHOD:PUBLISH
CALSCALE:GREGORIAN
PRODID:-//Helios Calendar//EN
X-FROM-URL:https://www.sdmesa.edu/calendar/index.php?eID=617
X-WR-RELCALID:San Diego Mesa College Calendar Recital Hour 20150930T130000
X-WR-TIMEZONE:America/Los_Angeles
X-WR-CALNAME:San Diego Mesa College Calendar
BEGIN:VEVENT
URL;VALUE=URI:https://www.sdmesa.edu/calendar/index.php?eID=617
DTSTART:20150930T130000
DTEND:20150930T140000
SUMMARY:Recital Hour
DESCRIPTION:Join Mesa’s Music Department for Recital Hour\, an hour-long music performance featured every Wednesday from 1-2 PM in Room 119 of the C-100 building.This event will feature contemporary guitar player James Earp. Where: Room C-119 For complete event details please visit:  https://www.sdmesa.edu/calendar/?eID=617\n______________________________\nEvent Downloaded Powered by OU Calendar
LOCATION:Mesa Campus - 7250 Mesa College Drive \, San Diego\, CA USA 92111
CATEGORIES:San Diego Mesa College Calendar Events
PRIORITY:0
TRANSP:TRANSPARENT
END:VEVENT
END:VCALENDAR