BEGIN:VCALENDAR
VERSION:2.0
METHOD:PUBLISH
CALSCALE:GREGORIAN
PRODID:-//Helios Calendar//EN
X-FROM-URL:https://www.sdmesa.edu/calendar/index.php?eID=613
X-WR-RELCALID:San Diego Mesa College Calendar Mesa READS Book Club Discussion 20151016T083000
X-WR-TIMEZONE:America/Los_Angeles
X-WR-CALNAME:San Diego Mesa College Calendar
BEGIN:VEVENT
URL;VALUE=URI:https://www.sdmesa.edu/calendar/index.php?eID=613
DTSTART:20151016T083000
DTEND:20151016T113000
SUMMARY:Mesa READS Book Club Discussion
DESCRIPTION:Join us for the first discussion day of the Mesa READS Book Club. Participants will discuss the book\, "The Culturally Inclusive Educator" by Dena R. Samuels\, at length and prepare ways in which we can apply these "lessons learned" at Mesa and in... For complete event details please visit:  https://www.sdmesa.edu/calendar/?eID=613\n______________________________\nEvent Downloaded Powered by OU Calendar
LOCATION:Mesa Campus - 7250 Mesa College Drive \, San Diego\, CA USA 92111
CATEGORIES:San Diego Mesa College Calendar Events
PRIORITY:0
TRANSP:TRANSPARENT
END:VEVENT
END:VCALENDAR