BEGIN:VCALENDAR
VERSION:2.0
METHOD:PUBLISH
CALSCALE:GREGORIAN
PRODID:-//Helios Calendar//EN
X-FROM-URL:https://www.sdmesa.edu/calendar/index.php?eID=609
X-WR-RELCALID:San Diego Mesa College Calendar Affirmative Action and the US Constitution 20150917T120000
X-WR-TIMEZONE:America/Los_Angeles
X-WR-CALNAME:San Diego Mesa College Calendar
BEGIN:VEVENT
URL;VALUE=URI:https://www.sdmesa.edu/calendar/index.php?eID=609
DTSTART:20150917T120000
DTEND:20150917T140000
SUMMARY:Affirmative Action and the US Constitution
DESCRIPTION:See students of the Thomas Jefferson School of Law Moot Court Team simulate court proceedings and outline anticipated arguments for the upcoming US Supreme Court case Fisher v. University of Texas in room H-117/H-118.Come early\; space is limited! (FLEX... For complete event details please visit:  https://www.sdmesa.edu/calendar/?eID=609\n______________________________\nEvent Downloaded Powered by OU Calendar
LOCATION:Mesa Campus - 7250 Mesa College Drive \, San Diego\, CA USA 92111
CATEGORIES:San Diego Mesa College Calendar Events
PRIORITY:0
TRANSP:TRANSPARENT
END:VEVENT
END:VCALENDAR