BEGIN:VCALENDAR
VERSION:2.0
METHOD:PUBLISH
CALSCALE:GREGORIAN
PRODID:-//Helios Calendar//EN
X-FROM-URL:https://www.sdmesa.edu/calendar/index.php?eID=608
X-WR-RELCALID:San Diego Mesa College Calendar Constitution Displays 20150918
X-WR-TIMEZONE:America/Los_Angeles
X-WR-CALNAME:San Diego Mesa College Calendar
BEGIN:VEVENT
URL;VALUE=URI:https://www.sdmesa.edu/calendar/index.php?eID=608
DTSTART;VALUE=DATE:20150918
DTEND;VALUE=DATE:20150919
SUMMARY:Constitution Displays
DESCRIPTION:Informational displays of the Constitution and more!Stop by the Mesa Bookstore (H-110) and Learning Resource Center (LRC).Sponsored by Mesa Bookstore and Learning Resource CenterFor more information\, including dates and times of events and activites click... For complete event details please visit:  https://www.sdmesa.edu/calendar/?eID=608\n______________________________\nEvent Downloaded Powered by OU Calendar
LOCATION:Mesa Campus - 7250 Mesa College Drive \, San Diego\, CA USA 92111
CATEGORIES:San Diego Mesa College Calendar Events
PRIORITY:0
TRANSP:TRANSPARENT
END:VEVENT
END:VCALENDAR