BEGIN:VCALENDAR
VERSION:2.0
METHOD:PUBLISH
CALSCALE:GREGORIAN
PRODID:-//Helios Calendar//EN
X-FROM-URL:https://www.sdmesa.edu/calendar/index.php?eID=603
X-WR-RELCALID:San Diego Mesa College Calendar Voter Registration & Constitution Trivia 20150915T110000
X-WR-TIMEZONE:America/Los_Angeles
X-WR-CALNAME:San Diego Mesa College Calendar
BEGIN:VEVENT
URL;VALUE=URI:https://www.sdmesa.edu/calendar/index.php?eID=603
DTSTART:20150915T110000
DTEND:20150915T130000
SUMMARY:Voter Registration & Constitution Trivia
DESCRIPTION:Register to vote\, then test your Constitutional knowledge! Answer a question and get a FREE Pocket Constitution Guide.Sponsored by Outreach and Student Affairs For more information\, including dates and times of events and activites click here. For complete event details please visit:  https://www.sdmesa.edu/calendar/?eID=603\n______________________________\nEvent Downloaded Powered by OU Calendar
LOCATION:M+S (MS Bldg) Circle - 7250 Mesa College Drive\, M+S Bldg \, San Diego\, CA USA 92111
CATEGORIES:San Diego Mesa College Calendar Events
PRIORITY:0
TRANSP:TRANSPARENT
END:VEVENT
END:VCALENDAR