BEGIN:VCALENDAR
VERSION:2.0
METHOD:PUBLISH
CALSCALE:GREGORIAN
PRODID:-//Helios Calendar//EN
X-FROM-URL:https://www.sdmesa.edu/calendar/index.php?eID=599
X-WR-RELCALID:San Diego Mesa College Calendar Fall Club Rush 20150915T110000
X-WR-TIMEZONE:America/Los_Angeles
X-WR-CALNAME:San Diego Mesa College Calendar
BEGIN:VEVENT
URL;VALUE=URI:https://www.sdmesa.edu/calendar/index.php?eID=599
DTSTART:20150915T110000
DTEND:20150915T130000
SUMMARY:Fall Club Rush
DESCRIPTION:Mesa College is home to over 30 separate and unique student-founded clubs and organizations!Each semester\, this informational outdoors event serves to recognize our student groups as well as acquaint students with the various club opportunities. From... For complete event details please visit:  https://www.sdmesa.edu/calendar/?eID=599\n______________________________\nEvent Downloaded Powered by OU Calendar
LOCATION:Mesa Promenade - 7250 Mesa College Drive\, Promenade \, San Diego\, CA USA 92111
CATEGORIES:San Diego Mesa College Calendar Events
PRIORITY:0
TRANSP:TRANSPARENT
END:VEVENT
END:VCALENDAR