BEGIN:VCALENDAR
VERSION:2.0
METHOD:PUBLISH
CALSCALE:GREGORIAN
PRODID:-//Helios Calendar//EN
X-FROM-URL:https://www.sdmesa.edu/calendar/index.php?eID=598
X-WR-RELCALID:San Diego Mesa College Calendar Important Deadlines 20150904
X-WR-TIMEZONE:America/Los_Angeles
X-WR-CALNAME:San Diego Mesa College Calendar
BEGIN:VEVENT
URL;VALUE=URI:https://www.sdmesa.edu/calendar/index.php?eID=598
DTSTART;VALUE=DATE:20150904
DTEND;VALUE=DATE:20150905
SUMMARY:Important Deadlines
DESCRIPTION:Don't let academic deadlines pass you by!  Friday\, September 4 is the last day to:Receive\, process\, and pay for add codesDrop classes without a "W" recordedReceive a refund for enrollment fees and/or non-resident tuition For a complete list of... For complete event details please visit:  https://www.sdmesa.edu/calendar/?eID=598\n______________________________\nEvent Downloaded Powered by OU Calendar
LOCATION:Mesa Campus - 7250 Mesa College Drive \, San Diego\, CA USA 92111
CATEGORIES:San Diego Mesa College Calendar Events
PRIORITY:0
TRANSP:TRANSPARENT
END:VEVENT
END:VCALENDAR