BEGIN:VCALENDAR
VERSION:2.0
METHOD:PUBLISH
CALSCALE:GREGORIAN
PRODID:-//Helios Calendar//EN
X-FROM-URL:https://www.sdmesa.edu/calendar/index.php?eID=593
X-WR-RELCALID:San Diego Mesa College Calendar Finding a Job with Social Media 20150916T120000
X-WR-TIMEZONE:America/Los_Angeles
X-WR-CALNAME:San Diego Mesa College Calendar
BEGIN:VEVENT
URL;VALUE=URI:https://www.sdmesa.edu/calendar/index.php?eID=593
DTSTART:20150916T120000
DTEND:20150916T130000
SUMMARY:Finding a Job with Social Media
DESCRIPTION:Learn tools to develop a positive online presence to secure a job and the importance of online networking.Wednesday\, Sept. 16th from 12:00 pm - 1:00 pmLocation: I4-306 (Career Center)Space is limited. Call or stop by the Career Center to reserve... For complete event details please visit:  https://www.sdmesa.edu/calendar/?eID=593\n______________________________\nEvent Downloaded Powered by OU Calendar
LOCATION:Mesa Campus - 7250 Mesa College Drive \, San Diego\, CA USA 92111
CATEGORIES:San Diego Mesa College Calendar Events
PRIORITY:0
TRANSP:TRANSPARENT
END:VEVENT
END:VCALENDAR