BEGIN:VCALENDAR
VERSION:2.0
METHOD:PUBLISH
CALSCALE:GREGORIAN
PRODID:-//Helios Calendar//EN
X-FROM-URL:https://www.sdmesa.edu/calendar/index.php?eID=592
X-WR-RELCALID:San Diego Mesa College Calendar Resume Workshop 20151203T150000
X-WR-TIMEZONE:America/Los_Angeles
X-WR-CALNAME:San Diego Mesa College Calendar
BEGIN:VEVENT
URL;VALUE=URI:https://www.sdmesa.edu/calendar/index.php?eID=592
DTSTART:20151203T150000
DTEND:20151203T160000
SUMMARY:Resume Workshop
DESCRIPTION:Learn tools to begin or improve your resume.Thursday\, Dec. 3rd from 3:00 pm - 4:00 pmLocation: I4-306 (Career Center)Space is limited. Call or stop by the Career Center to reserve your spot.Phone (619) 388-2777www.sdmesa.edu/career-center/events For complete event details please visit:  https://www.sdmesa.edu/calendar/?eID=592\n______________________________\nEvent Downloaded Powered by OU Calendar
LOCATION:Mesa Campus - 7250 Mesa College Drive \, San Diego\, CA USA 92111
CATEGORIES:San Diego Mesa College Calendar Events
PRIORITY:0
TRANSP:TRANSPARENT
END:VEVENT
END:VCALENDAR