BEGIN:VCALENDAR
VERSION:2.0
METHOD:PUBLISH
CALSCALE:GREGORIAN
PRODID:-//Helios Calendar//EN
X-FROM-URL:https://www.sdmesa.edu/calendar/index.php?eID=550
X-WR-RELCALID:San Diego Mesa College Calendar Program Review Steering Committee 20151002T110000
X-WR-TIMEZONE:America/Los_Angeles
X-WR-CALNAME:San Diego Mesa College Calendar
BEGIN:VEVENT
URL;VALUE=URI:https://www.sdmesa.edu/calendar/index.php?eID=550
DTSTART:20151002T110000
DTEND:20151002T123000
SUMMARY:Program Review Steering Committee
DESCRIPTION:Location:  SB-216The Program Review Steering Committee meeting\, which is held the first Friday of each month\, is where all aspects of the Program Review annual cycle are reviewed and discussed.  Program Review processes\, updates\, and important... For complete event details please visit:  https://www.sdmesa.edu/calendar/?eID=550\n______________________________\nEvent Downloaded Powered by OU Calendar
LOCATION:Mesa Campus - 7250 Mesa College Drive \, San Diego\, CA USA 92111
CATEGORIES:San Diego Mesa College Calendar Events
PRIORITY:0
TRANSP:TRANSPARENT
END:VEVENT
END:VCALENDAR