BEGIN:VCALENDAR
VERSION:2.0
METHOD:PUBLISH
CALSCALE:GREGORIAN
PRODID:-//Helios Calendar//EN
X-FROM-URL:https://www.sdmesa.edu/calendar/index.php?eID=548
X-WR-RELCALID:San Diego Mesa College Calendar CMS Training 20150731T100000
X-WR-TIMEZONE:America/Los_Angeles
X-WR-CALNAME:San Diego Mesa College Calendar
BEGIN:VEVENT
URL;VALUE=URI:https://www.sdmesa.edu/calendar/index.php?eID=548
DTSTART:20150731T100000
DTEND:20150731T120000
SUMMARY:CMS Training
DESCRIPTION:CMS Training on the new content management systemLocation: LRC-432 Event# For complete event details please visit:  https://www.sdmesa.edu/calendar/?eID=548\n______________________________\nEvent Downloaded Powered by OU Calendar
LOCATION:Mesa Campus - 7250 Mesa College Drive \, San Diego\, CA USA 92111
CATEGORIES:San Diego Mesa College Calendar Events
PRIORITY:0
TRANSP:TRANSPARENT
END:VEVENT
END:VCALENDAR