BEGIN:VCALENDAR
VERSION:2.0
METHOD:PUBLISH
CALSCALE:GREGORIAN
PRODID:-//Helios Calendar//EN
X-FROM-URL:https://www.sdmesa.edu/calendar/index.php?eID=547
X-WR-RELCALID:San Diego Mesa College Calendar Program Review Liaison's Institute 20150819T100000
X-WR-TIMEZONE:America/Los_Angeles
X-WR-CALNAME:San Diego Mesa College Calendar
BEGIN:VEVENT
URL;VALUE=URI:https://www.sdmesa.edu/calendar/index.php?eID=547
DTSTART:20150819T100000
DTEND:20150819T120000
SUMMARY:Program Review Liaison's Institute
DESCRIPTION:Location:  SB-216The Program Review Liaison's Institute event is our opening event for the upcoming Program Review 2015/16 UPDATE cycle.  Important information will be presented  by the Campus-Based Researcher\, Budget Allocation and Resource Committee... For complete event details please visit:  https://www.sdmesa.edu/calendar/?eID=547\n______________________________\nEvent Downloaded Powered by OU Calendar
LOCATION:Mesa Campus - 7250 Mesa College Drive \, San Diego\, CA USA 92111
CATEGORIES:San Diego Mesa College Calendar Events
PRIORITY:0
TRANSP:TRANSPARENT
END:VEVENT
END:VCALENDAR