BEGIN:VCALENDAR
VERSION:2.0
METHOD:PUBLISH
CALSCALE:GREGORIAN
PRODID:-//Helios Calendar//EN
X-FROM-URL:https://www.sdmesa.edu/calendar/index.php?eID=362
X-WR-RELCALID:San Diego Mesa College Calendar CSV Import Sample Event 20150529T070000
X-WR-TIMEZONE:America/Los_Angeles
X-WR-CALNAME:San Diego Mesa College Calendar
BEGIN:VEVENT
URL;VALUE=URI:https://www.sdmesa.edu/calendar/index.php?eID=362
DTSTART:20150529T070000
DTEND:20150529T180000
SUMMARY:CSV Import Sample Event
DESCRIPTION:We\'re using a little html for this one...this is bold\, this is italicized\, this is underlined\, strike this! plus this one has commas. You can "quote me on that"\, or \'quote me on that\'. Whichever you prefer. For complete event details please visit:  https://www.sdmesa.edu/calendar/?eID=362\n______________________________\nEvent Downloaded Powered by OU Calendar
LOCATION:Helios Calendar\'s Hometown -  \, Forest Grove\, OR USA 97116
CATEGORIES:San Diego Mesa College Calendar Events
PRIORITY:0
TRANSP:TRANSPARENT
END:VEVENT
END:VCALENDAR