BEGIN:VCALENDAR
VERSION:2.0
METHOD:PUBLISH
CALSCALE:GREGORIAN
PRODID:-//Helios Calendar//EN
X-FROM-URL:https://www.sdmesa.edu/calendar/index.php?eID=360
X-WR-RELCALID:San Diego Mesa College Calendar SD Mesa Psi Beta Chapter/Psychology Club 20151202T130000
X-WR-TIMEZONE:America/Los_Angeles
X-WR-CALNAME:San Diego Mesa College Calendar
BEGIN:VEVENT
URL;VALUE=URI:https://www.sdmesa.edu/calendar/index.php?eID=360
DTSTART:20151202T130000
DTEND:20151202T140000
SUMMARY:SD Mesa Psi Beta Chapter/Psychology Club
DESCRIPTION:General Meeting 1pm - 2pm in SB 220 For complete event details please visit:  https://www.sdmesa.edu/calendar/?eID=360\n______________________________\nEvent Downloaded Powered by OU Calendar
LOCATION:Mesa Campus - 7250 Mesa College Drive \, San Diego\, CA USA 92111
CATEGORIES:San Diego Mesa College Calendar Events
PRIORITY:0
TRANSP:TRANSPARENT
END:VEVENT
END:VCALENDAR