BEGIN:VCALENDAR
VERSION:2.0
METHOD:PUBLISH
CALSCALE:GREGORIAN
PRODID:-//Helios Calendar//EN
X-FROM-URL:https://www.sdmesa.edu/calendar/index.php?eID=333
X-WR-RELCALID:San Diego Mesa College Calendar Annual Matt Kofler Football Golf Tournament 20150529T130000
X-WR-TIMEZONE:America/Los_Angeles
X-WR-CALNAME:San Diego Mesa College Calendar
BEGIN:VEVENT
URL;VALUE=URI:https://www.sdmesa.edu/calendar/index.php?eID=333
DTSTART:20150529T130000
DTEND:20150529T170000
SUMMARY:Annual Matt Kofler Football Golf Tournament
DESCRIPTION:Announcing the 18th Annual Matt Kofler Football Golf Tournament!Football Players\, Coaches & FriendsWHEN:           FRIDAY\, MAY 29\, 2015TIME:           1:00 PM – SHOT GUN STARTWHERE:         ADMIRAL BAKER GOLF COURSE\, SAN DIEGOFORMAT:      GOLF\,... For complete event details please visit:  https://www.sdmesa.edu/calendar/?eID=333\n______________________________\nEvent Downloaded Powered by OU Calendar
LOCATION:Admiral Baker Golf Course - 2400 Admiral Baker Rd #3604 \, San Diego\, CA USA 92124
CATEGORIES:San Diego Mesa College Calendar Events
PRIORITY:0
TRANSP:TRANSPARENT
END:VEVENT
END:VCALENDAR