BEGIN:VCALENDAR
VERSION:2.0
METHOD:PUBLISH
CALSCALE:GREGORIAN
PRODID:-//Helios Calendar//EN
X-FROM-URL:https://www.sdmesa.edu/calendar/index.php?eID=323
X-WR-RELCALID:San Diego Mesa College Calendar 5-Week Summer Session Begins 20150706
X-WR-TIMEZONE:America/Los_Angeles
X-WR-CALNAME:San Diego Mesa College Calendar
BEGIN:VEVENT
URL;VALUE=URI:https://www.sdmesa.edu/calendar/index.php?eID=323
DTSTART;VALUE=DATE:20150706
DTEND;VALUE=DATE:20150707
SUMMARY:5-Week Summer Session Begins
DESCRIPTION:Mesa College is offering close to 500 classes this Summer in many fields of study\, including:Music MultimediaNutritionDental AssistingCulinary ArtsSummer Schedule of ClassesStudents must have a valid application on file to register. Students must... For complete event details please visit:  https://www.sdmesa.edu/calendar/?eID=323\n______________________________\nEvent Downloaded Powered by OU Calendar
LOCATION:Mesa Campus - 7250 Mesa College Drive \, San Diego\, CA USA 92111
CATEGORIES:San Diego Mesa College Calendar Events
PRIORITY:0
TRANSP:TRANSPARENT
END:VEVENT
END:VCALENDAR