BEGIN:VCALENDAR
VERSION:2.0
METHOD:PUBLISH
CALSCALE:GREGORIAN
PRODID:-//Helios Calendar//EN
X-FROM-URL:https://www.sdmesa.edu/calendar/index.php?eID=322
X-WR-RELCALID:San Diego Mesa College Calendar 5-Week Summer Session Ends 20150808
X-WR-TIMEZONE:America/Los_Angeles
X-WR-CALNAME:San Diego Mesa College Calendar
BEGIN:VEVENT
URL;VALUE=URI:https://www.sdmesa.edu/calendar/index.php?eID=322
DTSTART;VALUE=DATE:20150808
DTEND;VALUE=DATE:20150809
SUMMARY:5-Week Summer Session Ends
DESCRIPTION:Students must have a valid application on file to register. Students must register on Reg-e.  Click on the Registration tab. Second 5-week Summer Session runs July 6th - Aug 8th For complete event details please visit:  https://www.sdmesa.edu/calendar/?eID=322\n______________________________\nEvent Downloaded Powered by OU Calendar
LOCATION:P Bldg Garden - 7250 Mesa College Drive\, Bldg P  \, San Diego\, CA USA 92111
CATEGORIES:San Diego Mesa College Calendar Events
PRIORITY:0
TRANSP:TRANSPARENT
END:VEVENT
END:VCALENDAR