BEGIN:VCALENDAR
VERSION:2.0
METHOD:PUBLISH
CALSCALE:GREGORIAN
PRODID:-//Helios Calendar//EN
X-FROM-URL:https://www.sdmesa.edu/calendar/index.php?eID=321
X-WR-RELCALID:San Diego Mesa College Calendar Independence Day Holiday 20150703
X-WR-TIMEZONE:America/Los_Angeles
X-WR-CALNAME:San Diego Mesa College Calendar
BEGIN:VEVENT
URL;VALUE=URI:https://www.sdmesa.edu/calendar/index.php?eID=321
DTSTART;VALUE=DATE:20150703
DTEND;VALUE=DATE:20150704
SUMMARY:Independence Day Holiday
DESCRIPTION:Happy 4th of July! Holidays -No Saturday or Sunday classes FOLLOWING a Friday holiday. No Sunday classes BEFORE a Monday holiday. For complete event details please visit:  https://www.sdmesa.edu/calendar/?eID=321\n______________________________\nEvent Downloaded Powered by OU Calendar
LOCATION:P Bldg Garden - 7250 Mesa College Drive\, Bldg P  \, San Diego\, CA USA 92111
CATEGORIES:San Diego Mesa College Calendar Events
PRIORITY:0
TRANSP:TRANSPARENT
END:VEVENT
END:VCALENDAR