BEGIN:VCALENDAR
VERSION:2.0
METHOD:PUBLISH
CALSCALE:GREGORIAN
PRODID:-//Helios Calendar//EN
X-FROM-URL:https://www.sdmesa.edu/calendar/index.php?eID=318
X-WR-RELCALID:San Diego Mesa College Calendar Bus and Trolley Passes available 20150526
X-WR-TIMEZONE:America/Los_Angeles
X-WR-CALNAME:San Diego Mesa College Calendar
BEGIN:VEVENT
URL;VALUE=URI:https://www.sdmesa.edu/calendar/index.php?eID=318
DTSTART;VALUE=DATE:20150526
DTEND;VALUE=DATE:20150527
SUMMARY:Bus and Trolley Passes available
DESCRIPTION:Students who are enrolled in a minimum of 3 college units may purchase a monthly bus and trolley pass for the summer session. The monthly bus and trolley passes are available for purchase June\, July and August at the City\, Mesa and Miramar Accounting... For complete event details please visit:  https://www.sdmesa.edu/calendar/?eID=318\n______________________________\nEvent Downloaded Powered by OU Calendar
LOCATION:P Bldg Garden - 7250 Mesa College Drive\, Bldg P  \, San Diego\, CA USA 92111
CATEGORIES:San Diego Mesa College Calendar Events
PRIORITY:0
TRANSP:TRANSPARENT
END:VEVENT
END:VCALENDAR