BEGIN:VCALENDAR
VERSION:2.0
METHOD:PUBLISH
CALSCALE:GREGORIAN
PRODID:-//Helios Calendar//EN
X-FROM-URL:https://www.sdmesa.edu/calendar/index.php?eID=317
X-WR-RELCALID:San Diego Mesa College Calendar Open Registration begins 20150526
X-WR-TIMEZONE:America/Los_Angeles
X-WR-CALNAME:San Diego Mesa College Calendar
BEGIN:VEVENT
URL;VALUE=URI:https://www.sdmesa.edu/calendar/index.php?eID=317
DTSTART;VALUE=DATE:20150526
DTEND;VALUE=DATE:20150527
SUMMARY:Open Registration begins
DESCRIPTION:Students can register for classes using Reg-e\, the San Diego Community College District's online registration system. Students can visit the Student Web Services at: http://studentweb.sdccd.edu and click on the Reg-e icon. Full instructions will... For complete event details please visit:  https://www.sdmesa.edu/calendar/?eID=317\n______________________________\nEvent Downloaded Powered by OU Calendar
LOCATION:P Bldg Garden - 7250 Mesa College Drive\, Bldg P  \, San Diego\, CA USA 92111
CATEGORIES:San Diego Mesa College Calendar Events
PRIORITY:0
TRANSP:TRANSPARENT
END:VEVENT
END:VCALENDAR