BEGIN:VCALENDAR
VERSION:2.0
METHOD:PUBLISH
CALSCALE:GREGORIAN
PRODID:-//Helios Calendar//EN
X-FROM-URL:https://www.sdmesa.edu/calendar/index.php?eID=316
X-WR-RELCALID:San Diego Mesa College Calendar Parking Permits - Advanced Purchase Deadline 20150523
X-WR-TIMEZONE:America/Los_Angeles
X-WR-CALNAME:San Diego Mesa College Calendar
BEGIN:VEVENT
URL;VALUE=URI:https://www.sdmesa.edu/calendar/index.php?eID=316
DTSTART;VALUE=DATE:20150523
DTEND;VALUE=DATE:20150524
SUMMARY:Parking Permits - Advanced Purchase Deadline
DESCRIPTION:Permits purchased by this date will receive them in the mail. Permits purchased after this date willn eed to be picked up on campus. Parking permits are required at all times. Day permit machines are available in most student lots. For complete event details please visit:  https://www.sdmesa.edu/calendar/?eID=316\n______________________________\nEvent Downloaded Powered by OU Calendar
LOCATION:P Bldg Garden - 7250 Mesa College Drive\, Bldg P  \, San Diego\, CA USA 92111
CATEGORIES:San Diego Mesa College Calendar Events
PRIORITY:0
TRANSP:TRANSPARENT
END:VEVENT
END:VCALENDAR