BEGIN:VCALENDAR
VERSION:2.0
METHOD:PUBLISH
CALSCALE:GREGORIAN
PRODID:-//Helios Calendar//EN
X-FROM-URL:https://www.sdmesa.edu/calendar/index.php?eID=315
X-WR-RELCALID:San Diego Mesa College Calendar Registration by Appointment begins 20150512
X-WR-TIMEZONE:America/Los_Angeles
X-WR-CALNAME:San Diego Mesa College Calendar
BEGIN:VEVENT
URL;VALUE=URI:https://www.sdmesa.edu/calendar/index.php?eID=315
DTSTART;VALUE=DATE:20150512
DTEND;VALUE=DATE:20150513
SUMMARY:Registration by Appointment begins
DESCRIPTION:With the exception of Special-Admit High School students\, all students receive an appointment to register online using Reg-e . Special-Admit High School students must enroll in person at the time of their registration appointment.Students can register... For complete event details please visit:  https://www.sdmesa.edu/calendar/?eID=315\n______________________________\nEvent Downloaded Powered by OU Calendar
LOCATION:P Bldg Garden - 7250 Mesa College Drive\, Bldg P  \, San Diego\, CA USA 92111
CATEGORIES:San Diego Mesa College Calendar Events
PRIORITY:0
TRANSP:TRANSPARENT
END:VEVENT
END:VCALENDAR