BEGIN:VCALENDAR
VERSION:2.0
METHOD:PUBLISH
CALSCALE:GREGORIAN
PRODID:-//Helios Calendar//EN
X-FROM-URL:https://www.sdmesa.edu/calendar/index.php?eID=239
X-WR-RELCALID:San Diego Mesa College Calendar Priority Registration 20150511
X-WR-TIMEZONE:America/Los_Angeles
X-WR-CALNAME:San Diego Mesa College Calendar
BEGIN:VEVENT
URL;VALUE=URI:https://www.sdmesa.edu/calendar/index.php?eID=239
DTSTART;VALUE=DATE:20150511
DTEND;VALUE=DATE:20150512
SUMMARY:Priority Registration
DESCRIPTION:Eligible DSPS\, EOPS\, CalWorks\, Foster Youth\, Active Duty Military and Veterans.*Active Duty Military\, Veterans who were discharged within the past 15 years\, or current or former Foster Youth may be eligible for priority registration. For information\,... For complete event details please visit:  https://www.sdmesa.edu/calendar/?eID=239\n______________________________\nEvent Downloaded Powered by OU Calendar
LOCATION:P Bldg Garden - 7250 Mesa College Drive\, Bldg P  \, San Diego\, CA USA 92111
CATEGORIES:San Diego Mesa College Calendar Events
PRIORITY:0
TRANSP:TRANSPARENT
END:VEVENT
END:VCALENDAR