BEGIN:VCALENDAR
VERSION:2.0
METHOD:PUBLISH
CALSCALE:GREGORIAN
PRODID:-//Helios Calendar//EN
X-FROM-URL:https://www.sdmesa.edu/calendar/index.php?eID=10253
X-WR-RELCALID:San Diego Mesa College Calendar PATH Student Art Symposium 20260423T160000
X-WR-TIMEZONE:America/Los_Angeles
X-WR-CALNAME:San Diego Mesa College Calendar
BEGIN:VEVENT
URL;VALUE=URI:https://www.sdmesa.edu/calendar/index.php?eID=10253
DTSTART:20260423T160000
DTEND:20260423T190000
SUMMARY:PATH Student Art Symposium
DESCRIPTION:This event will showcase original artwork\, music\, writing\, and creative projects developed by PATH Program students and UC San Diego Ph.D. Integrated Fellowship Initiative fellows. Celebrate their work and explore how the arts and humanities inspire... For complete event details please visit:  https://www.sdmesa.edu/calendar/?eID=10253\n______________________________\nEvent Downloaded Powered by OU Calendar
LOCATION:D-101 - 7250 Mesa College Dr \, San Diego\, CA  92111
CATEGORIES:San Diego Mesa College Calendar Events
PRIORITY:0
TRANSP:TRANSPARENT
END:VEVENT
END:VCALENDAR