BEGIN:VCALENDAR
VERSION:2.0
METHOD:PUBLISH
CALSCALE:GREGORIAN
PRODID:-//Helios Calendar//EN
X-FROM-URL:https://www.sdmesa.edu/calendar/index.php?eID=10249
X-WR-RELCALID:San Diego Mesa College Calendar Lavender Celebration - Honoring Mesa Students 20260519T170000
X-WR-TIMEZONE:America/Los_Angeles
X-WR-CALNAME:San Diego Mesa College Calendar
BEGIN:VEVENT
URL;VALUE=URI:https://www.sdmesa.edu/calendar/index.php?eID=10249
DTSTART:20260519T170000
DTEND:20260519T183000
SUMMARY:Lavender Celebration - Honoring Mesa Students
DESCRIPTION:Join us for a celebration of diversity\, resilience\, and achievement of LGBTQIA+ students at the Lavender Celebration Ceremony.Date:Tuesday\, May 19\, 2026Time:5:00 PM - 6:30 PMLocation:D-101Event FlyerRegistration Link:tinyurl.com/2026LavenderCelebrati... For complete event details please visit:  https://www.sdmesa.edu/calendar/?eID=10249\n______________________________\nEvent Downloaded Powered by OU Calendar
LOCATION:D-101 - 7250 Mesa College Dr \, San Diego\, CA  92111
CATEGORIES:San Diego Mesa College Calendar Events
PRIORITY:0
TRANSP:TRANSPARENT
END:VEVENT
END:VCALENDAR