BEGIN:VCALENDAR
VERSION:2.0
METHOD:PUBLISH
CALSCALE:GREGORIAN
PRODID:-//Helios Calendar//EN
X-FROM-URL:https://www.sdmesa.edu/calendar/index.php?eID=10247
X-WR-RELCALID:San Diego Mesa College Calendar Pathways in Political Science: Dr.Ryan Fan 20260519T111500
X-WR-TIMEZONE:America/Los_Angeles
X-WR-CALNAME:San Diego Mesa College Calendar
BEGIN:VEVENT
URL;VALUE=URI:https://www.sdmesa.edu/calendar/index.php?eID=10247
DTSTART:20260519T111500
DTEND:20260519T123500
SUMMARY:Pathways in Political Science: Dr.Ryan Fan
DESCRIPTION:Guest Speaker EventTuesday\, 5/1911:15am - 12:35pmSB-113Advocacy & Campaign Manager\,Majdal: Arab Community Center of San DiegoFulbright researcher in Egypt (2009-2012) and Morocco (2016-2018)  For complete event details please visit:  https://www.sdmesa.edu/calendar/?eID=10247\n______________________________\nEvent Downloaded Powered by OU Calendar
LOCATION:SB-114 - 7250 Mesa College Dr \, San Diego\, CA  92111
CATEGORIES:San Diego Mesa College Calendar Events
PRIORITY:0
TRANSP:TRANSPARENT
END:VEVENT
END:VCALENDAR