BEGIN:VCALENDAR
VERSION:2.0
METHOD:PUBLISH
CALSCALE:GREGORIAN
PRODID:-//Helios Calendar//EN
X-FROM-URL:https://www.sdmesa.edu/calendar/index.php?eID=10246
X-WR-RELCALID:San Diego Mesa College Calendar Pathways in Political Science: Profe. Tomas Hernandez 20260423T111500
X-WR-TIMEZONE:America/Los_Angeles
X-WR-CALNAME:San Diego Mesa College Calendar
BEGIN:VEVENT
URL;VALUE=URI:https://www.sdmesa.edu/calendar/index.php?eID=10246
DTSTART:20260423T111500
DTEND:20260423T123500
SUMMARY:Pathways in Political Science: Profe. Tomas Hernandez
DESCRIPTION:Guest Speaker EventThursday\, 4/2311:15am - 12:35pmSB-113Professor Tomás Hernandez is the Assistant Dean\, Career Planning and Development & Assistant Professor ofExperiential Learning\, Willamette University School of Law2026 Oregon State Bar... For complete event details please visit:  https://www.sdmesa.edu/calendar/?eID=10246\n______________________________\nEvent Downloaded Powered by OU Calendar
LOCATION:SB-114 - 7250 Mesa College Dr \, San Diego\, CA  92111
CATEGORIES:San Diego Mesa College Calendar Events
PRIORITY:0
TRANSP:TRANSPARENT
END:VEVENT
END:VCALENDAR