BEGIN:VCALENDAR
VERSION:2.0
METHOD:PUBLISH
CALSCALE:GREGORIAN
PRODID:-//Helios Calendar//EN
X-FROM-URL:https://www.sdmesa.edu/calendar/index.php?eID=10245
X-WR-RELCALID:San Diego Mesa College Calendar Open Mic Night 20260423T170000
X-WR-TIMEZONE:America/Los_Angeles
X-WR-CALNAME:San Diego Mesa College Calendar
BEGIN:VEVENT
URL;VALUE=URI:https://www.sdmesa.edu/calendar/index.php?eID=10245
DTSTART:20260423T170000
DTEND:20260423T190000
SUMMARY:Open Mic Night
DESCRIPTION:Showcase your talent or enjoy an evening of music\, poetry\, comedy\, and more. All are welcome to participate or cheer on performers.Date: April 23\, 2026Time: 5:00PM - 7:00PMLocation: G-102Event Flyer For complete event details please visit:  https://www.sdmesa.edu/calendar/?eID=10245\n______________________________\nEvent Downloaded Powered by OU Calendar
LOCATION:G-102 - 7250 Mesa College Dr \, San Diego\, CA  92111
CATEGORIES:San Diego Mesa College Calendar Events
PRIORITY:0
TRANSP:TRANSPARENT
END:VEVENT
END:VCALENDAR