BEGIN:VCALENDAR
VERSION:2.0
METHOD:PUBLISH
CALSCALE:GREGORIAN
PRODID:-//Helios Calendar//EN
X-FROM-URL:https://www.sdmesa.edu/calendar/index.php?eID=10244
X-WR-RELCALID:San Diego Mesa College Calendar MESA x Transfer: CSU Next Steps 20260421T150000
X-WR-TIMEZONE:America/Los_Angeles
X-WR-CALNAME:San Diego Mesa College Calendar
BEGIN:VEVENT
URL;VALUE=URI:https://www.sdmesa.edu/calendar/index.php?eID=10244
DTSTART:20260421T150000
DTEND:20260421T163000
SUMMARY:MESA x Transfer: CSU Next Steps
DESCRIPTION:Received your Admissions Decisions?It’s time to get help with your Next Steps to becoming a Fall 2026 Transfer!Speak with a Transfer CounselorUnderstand your financial aidLearn how to choose the ideal campus for you!Tuesday\, April 21st3pm to 4:30pmMS-120... For complete event details please visit:  https://www.sdmesa.edu/calendar/?eID=10244\n______________________________\nEvent Downloaded Powered by OU Calendar
LOCATION:Mesa Campus - 7250 Mesa College Drive \, San Diego\, CA USA 92111
CATEGORIES:San Diego Mesa College Calendar Events
PRIORITY:0
TRANSP:TRANSPARENT
END:VEVENT
END:VCALENDAR