BEGIN:VCALENDAR
VERSION:2.0
METHOD:PUBLISH
CALSCALE:GREGORIAN
PRODID:-//Helios Calendar//EN
X-FROM-URL:https://www.sdmesa.edu/calendar/index.php?eID=10233
X-WR-RELCALID:San Diego Mesa College Calendar Career and Transfer Workshop 20260507T133000
X-WR-TIMEZONE:America/Los_Angeles
X-WR-CALNAME:San Diego Mesa College Calendar
BEGIN:VEVENT
URL;VALUE=URI:https://www.sdmesa.edu/calendar/index.php?eID=10233
DTSTART:20260507T133000
DTEND:20260507T143000
SUMMARY:Career and Transfer Workshop
DESCRIPTION:Join us to learn about the transfer process\, explore career pathways\, and discover how your academic choices can shape your future! Get exper advice and resources to help you succeed!Wednesday\, April 294:00 pm - 5:00 pmI4-202 | Avanza Workshop RoomThursday\,... For complete event details please visit:  https://www.sdmesa.edu/calendar/?eID=10233\n______________________________\nEvent Downloaded Powered by OU Calendar
LOCATION:Avanza Center (I4-202) - 7250 Mesa College Drive \, San Diego\, CA  92111
CATEGORIES:San Diego Mesa College Calendar Events
PRIORITY:0
TRANSP:TRANSPARENT
END:VEVENT
END:VCALENDAR