BEGIN:VCALENDAR
VERSION:2.0
METHOD:PUBLISH
CALSCALE:GREGORIAN
PRODID:-//Helios Calendar//EN
X-FROM-URL:https://www.sdmesa.edu/calendar/index.php?eID=10160
X-WR-RELCALID:San Diego Mesa College Calendar Drop-in sessions via ZOOM for CalFresh, CalWORKs, MediCal 20260430T110000
X-WR-TIMEZONE:America/Los_Angeles
X-WR-CALNAME:San Diego Mesa College Calendar
BEGIN:VEVENT
URL;VALUE=URI:https://www.sdmesa.edu/calendar/index.php?eID=10160
DTSTART:20260430T110000
DTEND:20260430T120000
SUMMARY:Drop-in sessions via ZOOM for CalFresh\, CalWORKs\, MediCal
DESCRIPTION:All students are welcome to ask general questions to a Health and Human Services Agency Representative via ZOOM  Meeting ID 825 0632 1495Services:CalWORKs for students with children under 18 years of ageCalFresh to supplement your food budget MediCal... For complete event details please visit:  https://www.sdmesa.edu/calendar/?eID=10160\n______________________________\nEvent Downloaded Powered by OU Calendar
LOCATION:Zoom Meeting ID - 825 0632 1495 - 7250 Mesa College Drive \, San Diego\, CA United States 92111
CATEGORIES:San Diego Mesa College Calendar Events
PRIORITY:0
TRANSP:TRANSPARENT
END:VEVENT
END:VCALENDAR