BEGIN:VCALENDAR
VERSION:2.0
METHOD:PUBLISH
CALSCALE:GREGORIAN
PRODID:-//Helios Calendar//EN
X-FROM-URL:https://www.sdmesa.edu/calendar/index.php?eID=10148
X-WR-RELCALID:San Diego Mesa College Calendar Drop-in Sessions for CalFresh, CalWORKs, MediCal 20260429T100000
X-WR-TIMEZONE:America/Los_Angeles
X-WR-CALNAME:San Diego Mesa College Calendar
BEGIN:VEVENT
URL;VALUE=URI:https://www.sdmesa.edu/calendar/index.php?eID=10148
DTSTART:20260429T100000
DTEND:20260429T160000
SUMMARY:Drop-in Sessions for CalFresh\, CalWORKs\, MediCal
DESCRIPTION:All students are welcome to ask general questions to a Health and Human Services Agency Representative. Services:CalWORKs for students iwth children under 18 years of age.CalFresh to supplement your food budgetMediCal for affordable health insurance... For complete event details please visit:  https://www.sdmesa.edu/calendar/?eID=10148\n______________________________\nEvent Downloaded Powered by OU Calendar
LOCATION:The Stand (K105/106) - 7250 Mesa College Dr \, San Diego\, CA  92111
CATEGORIES:San Diego Mesa College Calendar Events
PRIORITY:0
TRANSP:TRANSPARENT
END:VEVENT
END:VCALENDAR